BEGIN:VCALENDAR
VERSION:2.0
PRODID:-//ChamberMaster//Event Calendar 2.0//EN
METHOD:PUBLISH
X-PUBLISHED-TTL:P3D
REFRESH-INTERVAL:P3D
CALSCALE:GREGORIAN
BEGIN:VEVENT
DTSTART:20230510T163000Z
DTEND:20230510T180000Z
X-MICROSOFT-CDO-ALLDAYEVENT:FALSE
SUMMARY:Monthly Luncheon - May 10\, 2023
DESCRIPTION:OLIVE BRANCH CHAMBER OF COMMERCE\n\n      MONTHLY LUNCHEON\n\n\n\nPresenting Sponsor:  Methodist Olive Branch Hospital\n\nSilver Sponsor:  Southern Bancorp
X-ALT-DESC;FMTTYPE=text/html:<p><span style="font-family: arial\;"><strong style="font-size: 14px\;"><span style="font-size: 18px\;">OLIVE BRANCH CHAMBER OF COMMERCE<br />\n&nbsp\;&nbsp\;&nbsp\;&nbsp\;&nbsp\;&nbsp\;MONTHLY LUNCHEON</span></strong><br />\n<br />\n<strong style=""><span style="font-size: 16px\;">Presenting Sponsor:&nbsp\;</span><span style="font-size: 16px\; color: rgb(0\, 100\, 0)\;">&nbsp\;</span><font color="#a52a2a"><span style="font-size: 18px\;">Methodist Olive Branch Hospital</span></font><br />\n<span style="font-size: 18px\;"><span style="font-size: 16px\;">Silver Sponsor:</span></span><span style="font-size: 16px\; color: rgb(0\, 100\, 0)\;"><span style="font-size: 18px\;"><span style="font-size: 16px\;">&nbsp\; Southern Bancorp</span></span></span></strong></span></p>\n
LOCATION:Whispering Woods Hotel & Conference Center
UID:e.586.7340
SEQUENCE:3
DTSTAMP:20260422T050346Z
URL:https://chamber.olivebranchms.com/events/details/monthly-luncheon-may-10-2023-7340
END:VEVENT

END:VCALENDAR
