BEGIN:VCALENDAR
VERSION:2.0
PRODID:-//ChamberMaster//Event Calendar 2.0//EN
METHOD:PUBLISH
X-PUBLISHED-TTL:P3D
REFRESH-INTERVAL:P3D
CALSCALE:GREGORIAN
BEGIN:VEVENT
DTSTART;VALUE=DATE:20241015
DTEND;VALUE=DATE:20241208
TRANSP:TRANSPARENT
X-MICROSOFT-CDO-ALLDAYEVENT:TRUE
SUMMARY:Kens Insurance Agency LLC Medicare Insurance Open Enrollment
DESCRIPTION:We represent all the major carriers and many of the small so we can meet your needs when it comes to Medicare Insurance. We understand how frustrating this can be and so we try to make things easy for you with free education\, free quotes\, no pressure tactics\, and availability in the following types\n\nMedicare Advantage with and without Part D\n\nMedicare Supplement Insurance\n\nMedicare Perscription Drug Coverage Part D\n\nSupplemental Coverages that can help to save you money\n\nCoverage for special needs like Veterans\, Those with special health conditions\, in an institution\, those no both Medicare and Medicaid\, and those with low incomes.\n\nLet us set down and find the right solution for you. You will only pay the premium for your plan.
X-ALT-DESC;FMTTYPE=text/html:We represent all the major carriers and many of the small so we can meet your needs when it comes to Medicare Insurance. We understand how frustrating this can be and so we try to make things easy for you with free education\, free quotes\, no pressure tactics\, and availability in the following types<br />\nMedicare Advantage with and without Part D<br />\nMedicare Supplement Insurance<br />\nMedicare Perscription Drug Coverage Part D<br />\nSupplemental Coverages that can help to save you money<br />\nCoverage for special needs like Veterans\, Those with special health conditions\, in an institution\, those no both Medicare and Medicaid\, and those with low incomes.<br />\nLet us set down and find the right solution for you. You will only pay the premium for your plan.
LOCATION:Our office phone or Web location
UID:e.586.7413
SEQUENCE:3
DTSTAMP:20260422T185452Z
URL:https://chamber.olivebranchms.com/events/details/kens-insurance-agency-llc-medicare-insurance-open-enrollment-7413
END:VEVENT

END:VCALENDAR
