BEGIN:VCALENDAR
VERSION:2.0
PRODID:-//ChamberMaster//Event Calendar 2.0//EN
METHOD:PUBLISH
X-PUBLISHED-TTL:P3D
REFRESH-INTERVAL:P3D
CALSCALE:GREGORIAN
BEGIN:VEVENT
DTSTART:20260610T000000Z
DTEND:20260610T020000Z
X-MICROSOFT-CDO-ALLDAYEVENT:FALSE
SUMMARY:Junebug Jamboree
DESCRIPTION:Get ready for Junebug Jamboree an outdoor concert series in Old Towne Olive Branch! Enjoy live music\, delicious food trucks\, and a vibrant community atmosphere. It's the perfect way to spend an evening downtown.
X-ALT-DESC;FMTTYPE=text/html:Get ready for Junebug Jamboree&mdash\;an outdoor concert series in Old Towne Olive Branch! Enjoy live music\, delicious food trucks\, and a vibrant community atmosphere. It&rsquo\;s the perfect way to spend an evening downtown.&nbsp\;
LOCATION:Old Towne Olive Branch
UID:e.586.7522
SEQUENCE:3
DTSTAMP:20260420T040141Z
URL:https://chamber.olivebranchms.com/events/details/junebug-jamboree-7522
END:VEVENT

END:VCALENDAR
