BEGIN:VCALENDAR
VERSION:2.0
PRODID:-//ChamberMaster//Event Calendar 2.0//EN
METHOD:PUBLISH
X-PUBLISHED-TTL:P3D
REFRESH-INTERVAL:P3D
CALSCALE:GREGORIAN
BEGIN:VEVENT
DTSTART:20181017T154500Z
DTEND:20181017T170000Z
X-MICROSOFT-CDO-ALLDAYEVENT:FALSE
SUMMARY:HOLIDAY LIVESTREAM - GOOGLE ADVERTISING
DESCRIPTION:The holiday season will be here before we know it.  We can help you plan for the busiest time of the year with this holiday livestream.  The viewing will discuss how businesses can get in front of customers and showcase what they offer using Google My Business\, Google Ads\, and more.  Live questions will also be answered.
X-ALT-DESC;FMTTYPE=text/html:The holiday season will be here before we know it.&nbsp\; We can help you plan for the busiest time of the year with this holiday livestream.&nbsp\; The viewing will discuss how businesses can get in front of customers and showcase what they offer using Google My Business\, Google Ads\, and more.&nbsp\; Live questions will also be answered.&nbsp\;&nbsp\;
LOCATION:Olive Branch Chamber of Commerce Business Center
UID:e.586.7028
SEQUENCE:3
DTSTAMP:20260421T205638Z
URL:https://chamber.olivebranchms.com/events/details/holiday-livestream-google-advertising-7028
END:VEVENT

END:VCALENDAR
