BEGIN:VCALENDAR
VERSION:2.0
PRODID:-//ChamberMaster//Event Calendar 2.0//EN
METHOD:PUBLISH
X-PUBLISHED-TTL:P3D
REFRESH-INTERVAL:P3D
CALSCALE:GREGORIAN
BEGIN:VEVENT
DTSTART:20190105T160000Z
DTEND:20190105T180000Z
X-MICROSOFT-CDO-ALLDAYEVENT:FALSE
SUMMARY:Creative Kids Workshop at Board & Brush
DESCRIPTION:Join us at Board & Brush for a special 2 hour workshop just for kids! Kids will be able to join our popular workshop and create their own unique\, personalized wood project. We customize the materials for them and take them step-by-step to create a fun piece for their room or for a gift. They will choose their own paint colors during the workshop.
X-ALT-DESC;FMTTYPE=text/html:<h3 style="text-align:center">&nbsp\;</h3>\nJoin us at Board &amp\; Brush for a special 2 hour workshop just for kids! Kids will be able to join our popular workshop and create their own unique\, personalized wood project. We customize the materials for them and take them step-by-step to create a fun piece for their room or for a gift. They will choose their own paint colors during the workshop.
LOCATION:Board & Brush 7148 Kerr Pl. Olive Branch\, MS
UID:e.586.7049
SEQUENCE:3
DTSTAMP:20260425T115306Z
URL:https://chamber.olivebranchms.com/events/details/creative-kids-workshop-at-board-brush-7049
END:VEVENT

END:VCALENDAR
