BEGIN:VCALENDAR
VERSION:2.0
PRODID:-//ChamberMaster//Event Calendar 2.0//EN
METHOD:PUBLISH
X-PUBLISHED-TTL:P3D
REFRESH-INTERVAL:P3D
CALSCALE:GREGORIAN
BEGIN:VEVENT
DTSTART:20230610T130000Z
DTEND:20230610T190000Z
X-MICROSOFT-CDO-ALLDAYEVENT:FALSE
SUMMARY:Community Yard Sale
DESCRIPTION:First Cumberland Presbyterian Church is hosting a community yard sale! Community vendors are more than welcome\, so if you would like to set up a booth to sell your own merchandise or personal items\, please do! Vendor booths cost $25. All are welcome to come sell and buy!
X-ALT-DESC;FMTTYPE=text/html:First Cumberland Presbyterian Church is hosting a community yard sale! Community vendors are more than welcome\, so if you would like to set up a booth to sell your own merchandise or personal items\, please do! Vendor booths cost $25. All are welcome to come sell and buy!
LOCATION:First Cumberland Presbyterian Church 8161 Germantown Rd. Olive Branch\, MS 38654
UID:e.586.7357
SEQUENCE:3
DTSTAMP:20260419T135636Z
URL:https://chamber.olivebranchms.com/events/details/community-yard-sale-7357
END:VEVENT

END:VCALENDAR
