BEGIN:VCALENDAR
VERSION:2.0
PRODID:-//ChamberMaster//Event Calendar 2.0//EN
METHOD:PUBLISH
X-PUBLISHED-TTL:P3D
REFRESH-INTERVAL:P3D
CALSCALE:GREGORIAN
BEGIN:VEVENT
DTSTART:20260520T170000Z
DTEND:20260520T180000Z
X-MICROSOFT-CDO-ALLDAYEVENT:FALSE
SUMMARY:Chamber Unlocked
DESCRIPTION:Join us for an overview of the Chamber's key benefits\, tools\, and engagement opportunities designed to help members maximize their involvement.
X-ALT-DESC;FMTTYPE=text/html:<div style="font-family: &quot\;Segoe UI&quot\;\; font-size: 14px\; line-height: 20px\;">Join us for an overview of the Chamber&rsquo\;s key benefits\, tools\, and engagement opportunities designed to help members maximize their involvement.</div>\n
LOCATION:Chamber Business Center 9123 Pigeon Roost Rd Olive Branch\, MS 38654
UID:e.586.7521
SEQUENCE:3
DTSTAMP:20260419T235508Z
URL:https://chamber.olivebranchms.com/events/details/chamber-unlocked-7521
END:VEVENT

END:VCALENDAR
